BEGIN:VCALENDAR
VERSION:2.0
PRODID:-//CJCW - ECPv4.6.26//NONSGML v1.0//EN
CALSCALE:GREGORIAN
METHOD:PUBLISH
X-WR-CALNAME:CJCW
X-ORIGINAL-URL:https://590cjcw.com
X-WR-CALDESC:Events for CJCW
BEGIN:VEVENT
DTSTART;TZID=America/Halifax:20260117T103000
DTEND;TZID=America/Halifax:20260117T103000
DTSTAMP:20260425T161547
CREATED:20260112T132557Z
LAST-MODIFIED:20260112T132557Z
UID:7786-1768645800-1768645800@590cjcw.com
SUMMARY:Bad Art Night
DESCRIPTION:Bad Art NightSaturday\, January 1710:30 amSussex Regional Library \n
URL:https://590cjcw.com/event/bad-art-night/
END:VEVENT
END:VCALENDAR