BEGIN:VCALENDAR
VERSION:2.0
PRODID:-//CJCW - ECPv4.6.26//NONSGML v1.0//EN
CALSCALE:GREGORIAN
METHOD:PUBLISH
X-WR-CALNAME:CJCW
X-ORIGINAL-URL:https://590cjcw.com
X-WR-CALDESC:Events for CJCW
BEGIN:VEVENT
DTSTART;TZID=America/Halifax:20260117T100000
DTEND;TZID=America/Halifax:20260117T100000
DTSTAMP:20260425T172757
CREATED:20260112T121122Z
LAST-MODIFIED:20260112T121122Z
UID:7784-1768644000-1768644000@590cjcw.com
SUMMARY:Book Club: Your Pick
DESCRIPTION:Book Club: Your PickSaturday\, January 1710:00 amSussex Regional Library \n
URL:https://590cjcw.com/event/book-club-your-pick/
END:VEVENT
END:VCALENDAR