BEGIN:VCALENDAR
VERSION:2.0
PRODID:-//CJCW - ECPv4.6.26//NONSGML v1.0//EN
CALSCALE:GREGORIAN
METHOD:PUBLISH
X-WR-CALNAME:CJCW
X-ORIGINAL-URL:https://590cjcw.com
X-WR-CALDESC:Events for CJCW
BEGIN:VEVENT
DTSTART;TZID=America/Halifax:20250607T080000
DTEND;TZID=America/Halifax:20250607T170000
DTSTAMP:20260422T190613
CREATED:20250526T093637Z
LAST-MODIFIED:20250526T093637Z
UID:7309-1749283200-1749315600@590cjcw.com
SUMMARY:Craft Day at the Berwick Centre
DESCRIPTION:Craft Day at the Berwick CentreDate: June 7\, 2025Time: 10 AM – 4:00 PMLocation: Berwick Centre \nJoin us for a full day of crafting and connection! Bring your own project and supplies\, and enjoy the company of fellow crafters in a relaxed\, supportive environment. Tables will be provided. \nCost: $20 for the full day – includes lunch\, coffee\, tea\, and snacks. \nRSVP Required:Please let us know you’re coming so we can prepare!Contact Janny at 403-783-1072 or Mary at 506-433-5651 to reserve your spot. \n
URL:https://590cjcw.com/event/craft-day-at-the-berwick-centre/
END:VEVENT
END:VCALENDAR