BEGIN:VCALENDAR
VERSION:2.0
PRODID:-//CJCW - ECPv4.6.26//NONSGML v1.0//EN
CALSCALE:GREGORIAN
METHOD:PUBLISH
X-WR-CALNAME:CJCW
X-ORIGINAL-URL:https://590cjcw.com
X-WR-CALDESC:Events for CJCW
BEGIN:VEVENT
DTSTART;TZID=America/Halifax:20250708T190000
DTEND;TZID=America/Halifax:20250708T200000
DTSTAMP:20260423T031837
CREATED:20250612T130639Z
LAST-MODIFIED:20250707T103227Z
UID:7349-1752001200-1752004800@590cjcw.com
SUMMARY:CROSSWINDS RADIO BINGO
DESCRIPTION:GET YOUR BINGO CARDS FOR CROSSWINDS RADIO BINGOThis Tuesday at 7 PM on 92.9 CJCW \nCrosswinds Radio Bingo — This Tuesday evening at 7 on 92.9 CJCW \n
URL:https://590cjcw.com/event/crosswinds-radio-bingo-2/
END:VEVENT
END:VCALENDAR