BEGIN:VCALENDAR
VERSION:2.0
PRODID:-//CJCW - ECPv4.6.26//NONSGML v1.0//EN
CALSCALE:GREGORIAN
METHOD:PUBLISH
X-WR-CALNAME:CJCW
X-ORIGINAL-URL:https://590cjcw.com
X-WR-CALDESC:Events for CJCW
BEGIN:VEVENT
DTSTART;TZID=America/Halifax:20260212T120000
DTEND;TZID=America/Halifax:20260212T133000
DTSTAMP:20260421T125724
CREATED:20260205T134841Z
LAST-MODIFIED:20260205T134841Z
UID:7837-1770897600-1770903000@590cjcw.com
SUMMARY:Free Seniors’ Luncheon
DESCRIPTION:A free Seniors’ Luncheon will be held at Sussex Baptist Church\, 24 Church Ave\, on  \nThursday\, February 12\, from 12 noon to 1:30 PM. \nGuest speaker Julie Matthews\, the Executive Director of the Sussex Vale Transition House\, will be the guest speaker. All seniors in the Sussex area are welcome.  \nSpace is limited\, so please call 506-433-2100 to register or for further information. That’s 506-433-2100. I am attaching a poster that appears at many locations in Sussex. \n
URL:https://590cjcw.com/event/free-seniors-luncheon/
END:VEVENT
END:VCALENDAR