BEGIN:VCALENDAR
VERSION:2.0
PRODID:-//CJCW - ECPv4.6.26//NONSGML v1.0//EN
CALSCALE:GREGORIAN
METHOD:PUBLISH
X-WR-CALNAME:CJCW
X-ORIGINAL-URL:https://590cjcw.com
X-WR-CALDESC:Events for CJCW
BEGIN:VEVENT
DTSTART;TZID=America/Halifax:20260117T090000
DTEND;TZID=America/Halifax:20260117T110000
DTSTAMP:20260425T184041
CREATED:20260114T103244Z
LAST-MODIFIED:20260114T103244Z
UID:7795-1768640400-1768647600@590cjcw.com
SUMMARY:Royal Arch Breakfast
DESCRIPTION:Royal Arch Breakfast\nJoin us for a Classic Breakfast in support of local school food programs. \nMenu:Bacon\, eggs\, toast\, hashbrowns\, baked beansTea\, coffee\, and juice \nDate:Saturday\, January 17 \nTime:9:00 a.m. – 11:00 a.m. \nLocation:Zion Lodge482 Main Street\, Sussex \nCost:$10 per personChildren under 10: $5 \nProceeds support:Apohaqui & Sussex Corner School Food Programs \n
URL:https://590cjcw.com/event/royal-arch-breakfast/
END:VEVENT
END:VCALENDAR