BEGIN:VCALENDAR
VERSION:2.0
PRODID:-//CJCW - ECPv4.6.26//NONSGML v1.0//EN
CALSCALE:GREGORIAN
METHOD:PUBLISH
X-WR-CALNAME:CJCW
X-ORIGINAL-URL:https://590cjcw.com
X-WR-CALDESC:Events for CJCW
BEGIN:VEVENT
DTSTART;TZID=America/Halifax:20260314T090000
DTEND;TZID=America/Halifax:20260314T130000
DTSTAMP:20260424T121330
CREATED:20260305T115714Z
LAST-MODIFIED:20260305T115714Z
UID:7898-1773478800-1773493200@590cjcw.com
SUMMARY:Spring Market
DESCRIPTION:The Quispamsis Lions Club is hosting a Spring Market on March 14th from 9 a.m. to 1 p.m. at the Lions Club building at 9 Market Street in Quispamsis\, located behind Foodland. \nThe market will feature a variety of vendors with homemade goods\, baked treats\, crafts\, and more. There will also be a 50/50 draw and a raffle with prizes donated by vendors\, with the winners to be drawn at the club’s bingo on March 29th. \nAdmission and parking are free\, and all proceeds will go to the Lions Foundation of Canada Dog Guide program. \nBring your family and friends and check it out. \n
URL:https://590cjcw.com/event/spring-market/
END:VEVENT
END:VCALENDAR