BEGIN:VCALENDAR
VERSION:2.0
PRODID:-//CJCW - ECPv4.6.26//NONSGML v1.0//EN
CALSCALE:GREGORIAN
METHOD:PUBLISH
X-WR-CALNAME:CJCW
X-ORIGINAL-URL:https://590cjcw.com
X-WR-CALDESC:Events for CJCW
BEGIN:VEVENT
DTSTART;TZID=America/Halifax:20260117T160000
DTEND;TZID=America/Halifax:20260117T180000
DTSTAMP:20260425T150032
CREATED:20260113T123044Z
LAST-MODIFIED:20260113T123044Z
UID:7788-1768665600-1768672800@590cjcw.com
SUMMARY:Sussex Community Supper
DESCRIPTION:Sussex Community Supper\nYou’re invited to join us for a warm and welcoming Sussex Community Supper. \nMenu:Scrambled eggs\, sausage\, homemade muffin\, and a fresh fruit bowl \nDate & Time:Saturday\, January 174:00 – 6:00 p.m. \nLocation:Sussex Baptist Church24 Church Avenue \nCost:Eat in for $5Kids 12 and under eat freeTake-out meals available for $6 \nHosted by The Living Room SussexMore information: www.thelivingroomsussex.wordpress.com \n
URL:https://590cjcw.com/event/sussex-community-supper-4/
END:VEVENT
END:VCALENDAR